BEGIN:VCALENDAR
VERSION:2.0
PRODID:-//Skull Valley Band of Goshute - ECPv6.15.20//NONSGML v1.0//EN
CALSCALE:GREGORIAN
METHOD:PUBLISH
X-ORIGINAL-URL:https://skullvalleygoshutes.com
X-WR-CALDESC:Events for Skull Valley Band of Goshute
REFRESH-INTERVAL;VALUE=DURATION:PT1H
X-Robots-Tag:noindex
X-PUBLISHED-TTL:PT1H
BEGIN:VTIMEZONE
TZID:America/Phoenix
BEGIN:STANDARD
TZOFFSETFROM:-0700
TZOFFSETTO:-0700
TZNAME:MST
DTSTART:20240101T000000
END:STANDARD
END:VTIMEZONE
BEGIN:VEVENT
DTSTART;TZID=America/Phoenix:20251231T200000
DTEND;TZID=America/Phoenix:20260101T220000
DTSTAMP:20260421T042422
CREATED:20251215T060649Z
LAST-MODIFIED:20260126T111910Z
UID:89014-1767211200-1767304800@skullvalleygoshutes.com
SUMMARY:2026 New Year Celebration
DESCRIPTION:2026 new year celebration
URL:https://skullvalleygoshutes.com/event/2026-new-year-celebration/
ATTACH;FMTTYPE=image/webp:https://skullvalleygoshutes.com/wp-content/uploads/2025/11/Missing-Background.webp
END:VEVENT
BEGIN:VEVENT
DTSTART;TZID=America/Phoenix:20250925T080000
DTEND;TZID=America/Phoenix:20250925T170000
DTSTAMP:20260421T042422
CREATED:20250916T075231Z
LAST-MODIFIED:20251215T063403Z
UID:87733-1758787200-1758819600@skullvalleygoshutes.com
SUMMARY:Career Day
DESCRIPTION:Career Day
URL:https://skullvalleygoshutes.com/event/career-day/
ATTACH;FMTTYPE=image/webp:https://skullvalleygoshutes.com/wp-content/uploads/2025/07/Employment.webp
END:VEVENT
BEGIN:VEVENT
DTSTART;TZID=America/Phoenix:20250918T080000
DTEND;TZID=America/Phoenix:20250918T170000
DTSTAMP:20260421T042422
CREATED:20250916T075052Z
LAST-MODIFIED:20250916T075127Z
UID:87730-1758182400-1758214800@skullvalleygoshutes.com
SUMMARY:Back To School
DESCRIPTION:Back to school event
URL:https://skullvalleygoshutes.com/event/back-to-school/
ATTACH;FMTTYPE=image/webp:https://skullvalleygoshutes.com/wp-content/uploads/2025/07/Education.webp
END:VEVENT
END:VCALENDAR